BEGIN:VCALENDAR
VERSION:2.0
PRODID:-//LM Studio - ECPv6.15.20//NONSGML v1.0//EN
CALSCALE:GREGORIAN
METHOD:PUBLISH
X-ORIGINAL-URL:https://www.lmstudio.org
X-WR-CALDESC:Évènements pour LM Studio
REFRESH-INTERVAL;VALUE=DURATION:PT1H
X-Robots-Tag:noindex
X-PUBLISHED-TTL:PT1H
BEGIN:VTIMEZONE
TZID:Europe/Paris
BEGIN:DAYLIGHT
TZOFFSETFROM:+0100
TZOFFSETTO:+0200
TZNAME:CEST
DTSTART:20240331T010000
END:DAYLIGHT
BEGIN:STANDARD
TZOFFSETFROM:+0200
TZOFFSETTO:+0100
TZNAME:CET
DTSTART:20241027T010000
END:STANDARD
BEGIN:DAYLIGHT
TZOFFSETFROM:+0100
TZOFFSETTO:+0200
TZNAME:CEST
DTSTART:20250330T010000
END:DAYLIGHT
BEGIN:STANDARD
TZOFFSETFROM:+0200
TZOFFSETTO:+0100
TZNAME:CET
DTSTART:20251026T010000
END:STANDARD
BEGIN:DAYLIGHT
TZOFFSETFROM:+0100
TZOFFSETTO:+0200
TZNAME:CEST
DTSTART:20260329T010000
END:DAYLIGHT
BEGIN:STANDARD
TZOFFSETFROM:+0200
TZOFFSETTO:+0100
TZNAME:CET
DTSTART:20261025T010000
END:STANDARD
END:VTIMEZONE
BEGIN:VEVENT
DTSTART;TZID=Europe/Paris:20250701T080000
DTEND;TZID=Europe/Paris:20250726T190000
DTSTAMP:20260424T073657
CREATED:20240622T070652Z
LAST-MODIFIED:20250728T171356Z
UID:4501-1751356800-1753556400@www.lmstudio.org
SUMMARY:Bettina et Cocoart en résidence
DESCRIPTION:  \n\n\n\nYou are warmly invited to the joint exhibition of  \ncocoart and 白提山 Bettina Schleier \nbrought together by a shared belief: \nWith art\, nourish the heart – 以藝養心. \nCoco’s photographs linger on the edge of memory and imagination. Soft\, indistinct colors open spaces for reflection and emotional resonance — moments that invite the soul to breathe. With roots in design and art therapy\, her work becomes a quiet companion for the inner world. \nBettina’s art\, shaped by her background in art conservation\, explores the subtle crossroads of art\, science\, and cultural heritage. Her work is a quest for understanding humanity through self-awareness — using artistic practice as a bridge between people\, time and place. \nTogether\, Coco and Bettina share a deep commitment: to care — for cultures\, for stories\, for the invisible threads that connect us. \nIn a time of uncertainty and fragmentation\, their art is a gentle act of preservation\, and perhaps most importantly\, of soul nourishment. \nWe look forward to sharing this intimate and thoughtful journey with you. \nVous êtes chaleureusement invité·e·s à l’exposition conjointe de \nCocoart et 白提山 Bettina Schleier \nréunies autour d’une conviction partagée: \nNourrir l’âme par l’art – 以藝養心. \nLes photographies de Coco se tiennent à la lisière du souvenir et de l’imaginaire. Par leurs couleurs subtiles et indéfinies\, elles ouvrent un espace à la réflexion et à la résonance intérieure — des instants suspendus où l’âme peut respirer. Issue du design et de l’art-thérapie\, son œuvre accompagne en douceur le monde intérieur. \nL’art de Bettina\, nourri par son expérience en conservation d’art\, explore l’intersection délicate entre art\, science et patrimoine culturel. Sa démarche vise à comprendre l’humanité à travers la conscience de soi — en utilisant l’art comme passerelle entre les êtres\, le temps et l’espace. \nEnsemble\, Coco et Bettina partagent un engagement profond : prendre soin — des cultures\, des récits\, des fils invisibles qui nous relient. \nEn ces temps d’incertitude et de fragmentation\, leur art devient un geste délicat de préservation\, et peut-être surtout\, un acte de nourriture de l’âme. \nNous serons ravies de partager avec vous ce voyage intime et sensible. \n\nLes voyages forment non seulement la jeunesse ..et surtout la programmation de LM Studio..Merci a Guillaume L de m’avoir recommandé de rencontrer Bettina à Singapore. Notre rendez vous artistique reste gravé dans ma mémoire et dans l’œuvre de Bettina…Maintenant Bettina est revenue en Autriche et a rencontré Coco…Nous avons la chance de pouvoir les rencontrer …en Juillet 2025 !..Patience \nen attendant\nvoici de quoi vous informer…\n Instagram Bettina \nInstagram Coco
URL:https://www.lmstudio.org/expositions/bettina-et-coco/
CATEGORIES:Expositions Historiques
ATTACH;FMTTYPE=image/png:https://www.lmstudio.org/wp-content/uploads/2024/06/Screenshot-2025-05-18-at-19.09.35.png
END:VEVENT
BEGIN:VEVENT
DTSTART;TZID=Europe/Paris:20250731T100000
DTEND;TZID=Europe/Paris:20250823T170000
DTSTAMP:20260424T073657
CREATED:20240622T071055Z
LAST-MODIFIED:20250729T103207Z
UID:4503-1753956000-1755968400@www.lmstudio.org
SUMMARY:Exposition  "Du Design\, de Limoges"présentée par l"ENSAD Limoges
DESCRIPTION:Exposition  ENSAD Limoges:  “Du design\, de Limoges” \n \n…Sélection des Diplomés 2024 et 2025 invités à exposer dans la galerie de LM Studio et assurant la médiation à tour de rôle..l’occasion de mettre en situation leurs réalisations\,…se montrer\, de rencontrer\, d’aller voir\, de vendre\, de lier des relations et de démarrer dans la vie professionnelle  …etc\,…. figurant dans le parcours Off lors du festival de la Design Parade à Hyères et Toulon. \nEt nouveauté cette année \nRetour de 3 “Alumni ” qui exposeront ensuite en Septembre à la Paris Design Week  (Congrats!) \ncommissaire d’exposition: Nathanaël Abeille \npour ceux qui souhaitent plus d’informations… \nENSAD Limoges \ninstagram Ensad Limoges \n  \n\n\n\n\n\n\n\n\nEXPOSITION “Du Design\, de Limoges” à LM Studio à Hyères\n01.08.25 → 23.08.25 \n“- Du Design\, de Limoges\, c’est pas juste des objets bien rangés dans un cube blanc. Ce n’est pas une vitrine. Et c’est encore moins une expo de déco vue et revue. C’est un atelier vivant. Un recueil d’expériences\, d’histoires et de points de vues. C’est le croisement d’idées de trois générations de designers : 2023\, 2024\, 2025. Tous sortis de l’Ensad Limoges.\n– Mais ils font quoi\, concrètement\, à Limoges ?\n– Ils expérimentent. Ils testent. Ils créent. Et parfois\, oui… ils se plantent. Mais ils cherchent. Et ça\, c’est précieux.” […]\nAntoine Schacherer\, designer \nUne exposition des diplômé·es du master Design de l’Ensad Limoges et des alumni: Lohan Blois • Zélie Boisselier-Nonnet • Oriane Caroff • Carel Chbat • Axelle Dorlot • Lisa Giraud • Fouzia Khaia• Antoine Schacherer • Fabio Uberti.\nCommissariat : Nathanaël Abeille\, designer\, enseignant à l’Ensad Limoges. \nà LM STUDIO\n5 bis rue du Portalet – 83400 Hyères\nEntrée libre tous les jours de 10:00 à 13:00 et de 16:00 à 19:00 et sur RDV \nPrécisions sur https://lnkd.in/er-FSYGr\n#alumni #exposition #design #ensadlimoges #lmstudiohyeres #levarlunique #maregionsud #reseaudestinationvar #expos_var #collectifparcoursdesartshyeres #parcoursdesartshyeres\n\nEdited · 1h \n\n\nSee translation\n\n\n\n\n\n\n\n\n\n\n\n\n\n\n\n\n\n\n\n\n\n 
URL:https://www.lmstudio.org/expositions/ensad-limoges-2025/
CATEGORIES:Exposition Actuelle
ATTACH;FMTTYPE=image/jpeg:https://www.lmstudio.org/wp-content/uploads/2024/06/du-Design-de-Limoges.jpg
END:VEVENT
END:VCALENDAR