BEGIN:VCALENDAR
VERSION:2.0
PRODID:-//LM Studio - ECPv6.15.20//NONSGML v1.0//EN
CALSCALE:GREGORIAN
METHOD:PUBLISH
X-WR-CALNAME:LM Studio
X-ORIGINAL-URL:https://www.lmstudio.org
X-WR-CALDESC:Évènements pour LM Studio
REFRESH-INTERVAL;VALUE=DURATION:PT1H
X-Robots-Tag:noindex
X-PUBLISHED-TTL:PT1H
BEGIN:VTIMEZONE
TZID:Europe/Paris
BEGIN:DAYLIGHT
TZOFFSETFROM:+0100
TZOFFSETTO:+0200
TZNAME:CEST
DTSTART:20240331T010000
END:DAYLIGHT
BEGIN:STANDARD
TZOFFSETFROM:+0200
TZOFFSETTO:+0100
TZNAME:CET
DTSTART:20241027T010000
END:STANDARD
BEGIN:DAYLIGHT
TZOFFSETFROM:+0100
TZOFFSETTO:+0200
TZNAME:CEST
DTSTART:20250330T010000
END:DAYLIGHT
BEGIN:STANDARD
TZOFFSETFROM:+0200
TZOFFSETTO:+0100
TZNAME:CET
DTSTART:20251026T010000
END:STANDARD
BEGIN:DAYLIGHT
TZOFFSETFROM:+0100
TZOFFSETTO:+0200
TZNAME:CEST
DTSTART:20260329T010000
END:DAYLIGHT
BEGIN:STANDARD
TZOFFSETFROM:+0200
TZOFFSETTO:+0100
TZNAME:CET
DTSTART:20261025T010000
END:STANDARD
END:VTIMEZONE
BEGIN:VEVENT
DTSTART;TZID=Europe/Paris:20250106T080000
DTEND;TZID=Europe/Paris:20250322T170000
DTSTAMP:20260424T125019
CREATED:20240622T065928Z
LAST-MODIFIED:20250325T022553Z
UID:4492-1736150400-1742662800@www.lmstudio.org
SUMMARY:residence A.I.R. 2025  Appel à projet en cours
DESCRIPTION:Durant sa résidence\, l’artiste a voulu explorer la mémoire et la poésie des chantiers urbains. À travers une série d’oeuvres qui détournent traditions\, objets et traces urbaines\, elle questionne ces espaces de transition où se jouent sans cesse la métamorphose de notre environnement.\nElle invite à une réflexion sur la ville comme un palimpseste\, où les couches du passé et du présent se superposent. C’est une ode à l’impermanence\, une invitation à regarder autrement ce qui semble incommode et à y voir une forme de mémoire et de renouveau.\n\n\n  \n\n\n\n\n\n\n\n\n\n\nAURÉLINE CALTAGIR0NE\nARTISTE PLASTICIENNE\naurelinecaltagirone.com\n\n\n\nwww.aurelinecaltagirone.com
URL:https://www.lmstudio.org/expositions/residence-a-i-r-2025-appel-a-projet-24-juin-2024/
LOCATION:LM Studio\, 5 bis rue du Portalet\, Hyeres\, 83400\, France
CATEGORIES:Expositions Historiques
ATTACH;FMTTYPE=image/jpeg:https://www.lmstudio.org/wp-content/uploads/2024/06/IMG_6862-scaled.jpeg
END:VEVENT
BEGIN:VEVENT
DTSTART;TZID=Europe/Paris:20250331T080000
DTEND;TZID=Europe/Paris:20250427T170000
DTSTAMP:20260424T125019
CREATED:20240622T070132Z
LAST-MODIFIED:20250527T040835Z
UID:4494-1743408000-1745773200@www.lmstudio.org
SUMMARY:Welcome to the artist "SHANE"
DESCRIPTION:“Shane Ackerley is an artist and researcher born\, raised\, and currently based in Toronto (Tkaronto)\, Canada. He earned a BSc in Astrophysics with a Minor in Studio Art from The University of Western Ontario in 2024. His studies in mathematics and cosmology directly inform his creative practice. Ackerley is best known for his “Untitled” line drawings\, but works across various mediums including printmaking\, digital photography\, and python code. He is interested in science and art as a means of fostering human connection. For his residency at LM Studio Hyères in April 2025\, Ackerley will continue his “Untitled” series\, exploring the concept of fields—both as mathematical-physical entities and as distinct areas of academic inquiry.” \nFor more information check the artist’s bio
URL:https://www.lmstudio.org/expositions/welcome-to-the-artist-shane/
CATEGORIES:Expositions Historiques
ATTACH;FMTTYPE=image/jpeg:https://www.lmstudio.org/wp-content/uploads/2024/06/LMStudioAvantmedium-1.jpeg
END:VEVENT
END:VCALENDAR