BEGIN:VCALENDAR
VERSION:2.0
PRODID:-//LM Studio - ECPv6.15.20//NONSGML v1.0//EN
CALSCALE:GREGORIAN
METHOD:PUBLISH
X-ORIGINAL-URL:https://www.lmstudio.org
X-WR-CALDESC:Évènements pour LM Studio
REFRESH-INTERVAL;VALUE=DURATION:PT1H
X-Robots-Tag:noindex
X-PUBLISHED-TTL:PT1H
BEGIN:VTIMEZONE
TZID:Europe/Paris
BEGIN:DAYLIGHT
TZOFFSETFROM:+0100
TZOFFSETTO:+0200
TZNAME:CEST
DTSTART:20250330T010000
END:DAYLIGHT
BEGIN:STANDARD
TZOFFSETFROM:+0200
TZOFFSETTO:+0100
TZNAME:CET
DTSTART:20251026T010000
END:STANDARD
BEGIN:DAYLIGHT
TZOFFSETFROM:+0100
TZOFFSETTO:+0200
TZNAME:CEST
DTSTART:20260329T010000
END:DAYLIGHT
BEGIN:STANDARD
TZOFFSETFROM:+0200
TZOFFSETTO:+0100
TZNAME:CET
DTSTART:20261025T010000
END:STANDARD
BEGIN:DAYLIGHT
TZOFFSETFROM:+0100
TZOFFSETTO:+0200
TZNAME:CEST
DTSTART:20270328T010000
END:DAYLIGHT
BEGIN:STANDARD
TZOFFSETFROM:+0200
TZOFFSETTO:+0100
TZNAME:CET
DTSTART:20271031T010000
END:STANDARD
BEGIN:DAYLIGHT
TZOFFSETFROM:+0100
TZOFFSETTO:+0200
TZNAME:CEST
DTSTART:20280326T010000
END:DAYLIGHT
BEGIN:STANDARD
TZOFFSETFROM:+0200
TZOFFSETTO:+0100
TZNAME:CET
DTSTART:20281029T010000
END:STANDARD
END:VTIMEZONE
BEGIN:VEVENT
DTSTART;TZID=Europe/Paris:20260427T080000
DTEND;TZID=Europe/Paris:20260524T080000
DTSTAMP:20260423T175818
CREATED:20250818T140225Z
LAST-MODIFIED:20250818T150228Z
UID:4788-1777276800-1779609600@www.lmstudio.org
SUMMARY:bienvenue à Alexander Grimm from Austria
DESCRIPTION:Rien ne sert de courir\, il faut partir à temps\,…ceci pourrait s’appliquer à l’artiste Alexander qui depuis Juin 2025 se projette à Hyères et finalement se décide en Août et réserve la résidence pour la période de Mai 2026…Le compte à rebours a demarré…
URL:https://www.lmstudio.org/expositions/bienvenue-a-alexander-grimm-from-austria-2/
CATEGORIES:Futures Expositions
END:VEVENT
BEGIN:VEVENT
DTSTART;TZID=Europe/Paris:20260525T080000
DTEND;TZID=Europe/Paris:20260621T170000
DTSTAMP:20260423T175818
CREATED:20250818T135824Z
LAST-MODIFIED:20250818T140053Z
UID:4785-1779696000-1782061200@www.lmstudio.org
SUMMARY:Bienvenue à ?
DESCRIPTION:
URL:https://www.lmstudio.org/expositions/bienvenue-a-alexander-grimm-from-austria/
CATEGORIES:Futures Expositions
END:VEVENT
BEGIN:VEVENT
DTSTART;TZID=Europe/Paris:20260623T080000
DTEND;TZID=Europe/Paris:20260629T170000
DTSTAMP:20260423T175818
CREATED:20250818T140903Z
LAST-MODIFIED:20250918T191540Z
UID:4790-1782201600-1782752400@www.lmstudio.org
SUMMARY:Spécial "Hyères Design Week" #3
DESCRIPTION:Appel à Projet bientôt publié sur le site internet afin de pouvoir continuer le programme initié en 2024 et 2025 \nParcours off de la Design Parade \n 
URL:https://www.lmstudio.org/expositions/special-designparade-off-week/
CATEGORIES:Futures Expositions
END:VEVENT
BEGIN:VEVENT
DTSTART;TZID=Europe/Paris:20270329T080000
DTEND;TZID=Europe/Paris:20270425T170000
DTSTAMP:20260423T175818
CREATED:20250729T165559Z
LAST-MODIFIED:20260322T132226Z
UID:4782-1806307200-1808672400@www.lmstudio.org
SUMMARY:Bienvenue Madeleine van Manen en direct d'Afrique du Sud
DESCRIPTION:2026 Madeleine doit malheureusement annuler son sejour a LM Studio pour des raisons familiales. Ce sera reporte a la saison 2027. \nNous te souhaitons beaucoup de courage et d’énergie pour faire face à cette période difficile. Nous t’attendons . \nLe coté international de LM Studio grâce à des artistes venant en résidence de pays europeens(Allemagne\,  Autriche\,..) ou mondiaux (Argentine\, Canada\, Israel\, USA) intègre désormaiscomme pays de provenance  l’Afrique du Sud !.. \nBienvenue à Madeleine Van Manen \nSite internet \nInstagram \n  \n 
URL:https://www.lmstudio.org/expositions/bienvenue-madeleine-van-manen-en-direct-dafrique-du-sud/
CATEGORIES:Futures Expositions
END:VEVENT
END:VCALENDAR