BEGIN:VCALENDAR
VERSION:2.0
PRODID:-//LM Studio - ECPv6.15.20//NONSGML v1.0//EN
CALSCALE:GREGORIAN
METHOD:PUBLISH
X-WR-CALNAME:LM Studio
X-ORIGINAL-URL:https://www.lmstudio.org
X-WR-CALDESC:Évènements pour LM Studio
REFRESH-INTERVAL;VALUE=DURATION:PT1H
X-Robots-Tag:noindex
X-PUBLISHED-TTL:PT1H
BEGIN:VTIMEZONE
TZID:Europe/Paris
BEGIN:DAYLIGHT
TZOFFSETFROM:+0100
TZOFFSETTO:+0200
TZNAME:CEST
DTSTART:20240331T010000
END:DAYLIGHT
BEGIN:STANDARD
TZOFFSETFROM:+0200
TZOFFSETTO:+0100
TZNAME:CET
DTSTART:20241027T010000
END:STANDARD
BEGIN:DAYLIGHT
TZOFFSETFROM:+0100
TZOFFSETTO:+0200
TZNAME:CEST
DTSTART:20250330T010000
END:DAYLIGHT
BEGIN:STANDARD
TZOFFSETFROM:+0200
TZOFFSETTO:+0100
TZNAME:CET
DTSTART:20251026T010000
END:STANDARD
BEGIN:DAYLIGHT
TZOFFSETFROM:+0100
TZOFFSETTO:+0200
TZNAME:CEST
DTSTART:20260329T010000
END:DAYLIGHT
BEGIN:STANDARD
TZOFFSETFROM:+0200
TZOFFSETTO:+0100
TZNAME:CET
DTSTART:20261025T010000
END:STANDARD
END:VTIMEZONE
BEGIN:VEVENT
DTSTART;TZID=Europe/Paris:20251014T110000
DTEND;TZID=Europe/Paris:20251019T160000
DTSTAMP:20260424T103735
CREATED:20250918T194335Z
LAST-MODIFIED:20251009T141828Z
UID:4817-1760439600-1760889600@www.lmstudio.org
SUMMARY:Invitée Spéciale pendant le festival  "Hyères Fashion Week"
DESCRIPTION:BIENVENUE A CENDRINE GENIN \n  \nFrançoise Michallon vous invite à découvrir\nl’univers artistique de Cendrine Genin\nlors de l’exposition « LES INTIMES » en\nécho au Festival International de mode\,\nde photographie et d’accessoires de\nHyères. Cet événement se tiendra à la\ngalerie LM STUDIO\, 5 bis Rue Portalet\,\n83400 Hyères\, du Mardi 14 Octobre au\nSamedi 18 Octobre de 11h à 19h avec\nun vernissage le mardi de 17h à 21h\, le\nDimanche 19 Octobre de 11h à 16h et\nsur rendez-vous. \nLES INTIMES\,\nL’Intime est une recherche.\nJe saisis tout ce qui va me permettre\nde tracer une émotion.\nUn fil de lumière\, une matière\, une\nrencontre de couleurs\, une odeur\nimperceptible.\nJe cherche à m’approcher du geste.\nAutant de variations intimes…ou de\nfailles infimes.\nFils entre le visible et l’invisible.\n« Gestes\ngestes de la vie ignorée\nde la vie\nde la vie impulsive\net heureuse à se dilapider\nde la vie saccadée\n…\nde la vie n’importe comment\n…\nGestes du dépassement\nsurtout du dépassement »\nHenri Michaux
URL:https://www.lmstudio.org/expositions/cendrine-genin-invitee-speciale-hyeres-fashion-week/
CATEGORIES:Futures Expositions
ATTACH;FMTTYPE=image/jpeg:https://www.lmstudio.org/wp-content/uploads/2025/09/vue-Insta-Francoise.jpg
END:VEVENT
END:VCALENDAR