BEGIN:VCALENDAR
VERSION:2.0
PRODID:-//LM Studio - ECPv6.15.20//NONSGML v1.0//EN
CALSCALE:GREGORIAN
METHOD:PUBLISH
X-WR-CALNAME:LM Studio
X-ORIGINAL-URL:https://www.lmstudio.org
X-WR-CALDESC:Évènements pour LM Studio
REFRESH-INTERVAL;VALUE=DURATION:PT1H
X-Robots-Tag:noindex
X-PUBLISHED-TTL:PT1H
BEGIN:VTIMEZONE
TZID:Europe/Paris
BEGIN:DAYLIGHT
TZOFFSETFROM:+0100
TZOFFSETTO:+0200
TZNAME:CEST
DTSTART:20220327T010000
END:DAYLIGHT
BEGIN:STANDARD
TZOFFSETFROM:+0200
TZOFFSETTO:+0100
TZNAME:CET
DTSTART:20221030T010000
END:STANDARD
BEGIN:DAYLIGHT
TZOFFSETFROM:+0100
TZOFFSETTO:+0200
TZNAME:CEST
DTSTART:20230326T010000
END:DAYLIGHT
BEGIN:STANDARD
TZOFFSETFROM:+0200
TZOFFSETTO:+0100
TZNAME:CET
DTSTART:20231029T010000
END:STANDARD
BEGIN:DAYLIGHT
TZOFFSETFROM:+0100
TZOFFSETTO:+0200
TZNAME:CEST
DTSTART:20240331T010000
END:DAYLIGHT
BEGIN:STANDARD
TZOFFSETFROM:+0200
TZOFFSETTO:+0100
TZNAME:CET
DTSTART:20241027T010000
END:STANDARD
END:VTIMEZONE
BEGIN:VEVENT
DTSTART;TZID=Europe/Paris:20230727T100000
DTEND;TZID=Europe/Paris:20230902T190000
DTSTAMP:20260425T234730
CREATED:20221111T212527Z
LAST-MODIFIED:20230913T070850Z
UID:4174-1690452000-1693681200@www.lmstudio.org
SUMMARY:Limoges !
DESCRIPTION:Rappelez-vous Aout 2021 avec l’exposition de 6 jeunes diplômés DESIGN de l’ENSA de Limoges…avec\nQuel Succès\nQue de bons souvenirs de Beatrice Delaunay\, Manon Papin\, Charlotte Herbert\, Marjorie Tirollois\, Jean Ramon ou Jean Savard\,… Ils laissent leur place à une nouvelle selection dans la promo 2022-2023 grâce aux commissaires d’exposition Nathanael Abeille et Indiana Collet-Barquero\nVernissage 27 Juillet 2023 à partir de 18h
URL:https://www.lmstudio.org/expositions/limoges-2023/
LOCATION:LM Studio\, 5 bis rue du Portalet\, Hyeres\, 83400\, France
CATEGORIES:Expositions Historiques
ATTACH;FMTTYPE=image/jpeg:https://www.lmstudio.org/wp-content/uploads/2022/11/1.jpeg
END:VEVENT
END:VCALENDAR