BEGIN:VCALENDAR
VERSION:2.0
PRODID:-//LM Studio - ECPv6.15.20//NONSGML v1.0//EN
CALSCALE:GREGORIAN
METHOD:PUBLISH
X-ORIGINAL-URL:https://www.lmstudio.org
X-WR-CALDESC:Évènements pour LM Studio
REFRESH-INTERVAL;VALUE=DURATION:PT1H
X-Robots-Tag:noindex
X-PUBLISHED-TTL:PT1H
BEGIN:VTIMEZONE
TZID:Europe/Paris
BEGIN:DAYLIGHT
TZOFFSETFROM:+0100
TZOFFSETTO:+0200
TZNAME:CEST
DTSTART:20250330T010000
END:DAYLIGHT
BEGIN:STANDARD
TZOFFSETFROM:+0200
TZOFFSETTO:+0100
TZNAME:CET
DTSTART:20251026T010000
END:STANDARD
BEGIN:DAYLIGHT
TZOFFSETFROM:+0100
TZOFFSETTO:+0200
TZNAME:CEST
DTSTART:20260329T010000
END:DAYLIGHT
BEGIN:STANDARD
TZOFFSETFROM:+0200
TZOFFSETTO:+0100
TZNAME:CET
DTSTART:20261025T010000
END:STANDARD
BEGIN:DAYLIGHT
TZOFFSETFROM:+0100
TZOFFSETTO:+0200
TZNAME:CEST
DTSTART:20270328T010000
END:DAYLIGHT
BEGIN:STANDARD
TZOFFSETFROM:+0200
TZOFFSETTO:+0100
TZNAME:CET
DTSTART:20271031T010000
END:STANDARD
END:VTIMEZONE
BEGIN:VEVENT
DTSTART;TZID=Europe/Paris:20260331T080000
DTEND;TZID=Europe/Paris:20260422T180000
DTSTAMP:20260423T210436
CREATED:20260322T131740Z
LAST-MODIFIED:20260423T022815Z
UID:4883-1774944000-1776880800@www.lmstudio.org
SUMMARY:LM Studio expose Veronique PAYAN
DESCRIPTION:  \n \nVéronique partage: “J’ai partagé ma vie entre la création et l’enseignement artistique. Depuis plus de 30 ans je me consacre à la peinture. \nTrouver son identité picturale est un long cheminement. \nPeindre sur le motif a été mon choix d’école (d’apprentissage) au travers de différents ateliers et maîtres\, pour acquérir les bases de la technique. J’ai cherché à maîtriser les contrastes et valeurs\, afin d’être libre et juste dans ma représentation des sujets. \nMa priorité dans la peinture est de saisir et restituer l’ambiance et les lumières des lieux qui m’interpellent. Tout peut être source d’inspiration ! \nLa peinture me donne le pouvoir d’interpréter ma vision et de représenter le visible avec ma sensibilité. Le sujet peut alors devenir secondaire et davantage un prétexte pour peindre.” \n \n  \nINFORMATION PRATIQUE \nOUVERT de 11h à 13h et de 15 à 18h \net sur RDV \ncontact 06 62 24 23 95 \nsite internet: https://www.veroniquepayan.eu/
URL:https://www.lmstudio.org/expositions/lm-studio-expose-veronique-payan/
CATEGORIES:Expositions Historiques
END:VEVENT
END:VCALENDAR