BEGIN:VCALENDAR
VERSION:2.0
PRODID:-//LM Studio - ECPv6.15.20//NONSGML v1.0//EN
CALSCALE:GREGORIAN
METHOD:PUBLISH
X-ORIGINAL-URL:https://www.lmstudio.org
X-WR-CALDESC:Évènements pour LM Studio
REFRESH-INTERVAL;VALUE=DURATION:PT1H
X-Robots-Tag:noindex
X-PUBLISHED-TTL:PT1H
BEGIN:VTIMEZONE
TZID:Europe/Paris
BEGIN:DAYLIGHT
TZOFFSETFROM:+0100
TZOFFSETTO:+0200
TZNAME:CEST
DTSTART:20240331T010000
END:DAYLIGHT
BEGIN:STANDARD
TZOFFSETFROM:+0200
TZOFFSETTO:+0100
TZNAME:CET
DTSTART:20241027T010000
END:STANDARD
BEGIN:DAYLIGHT
TZOFFSETFROM:+0100
TZOFFSETTO:+0200
TZNAME:CEST
DTSTART:20250330T010000
END:DAYLIGHT
BEGIN:STANDARD
TZOFFSETFROM:+0200
TZOFFSETTO:+0100
TZNAME:CET
DTSTART:20251026T010000
END:STANDARD
BEGIN:DAYLIGHT
TZOFFSETFROM:+0100
TZOFFSETTO:+0200
TZNAME:CEST
DTSTART:20260329T010000
END:DAYLIGHT
BEGIN:STANDARD
TZOFFSETFROM:+0200
TZOFFSETTO:+0100
TZNAME:CET
DTSTART:20261025T010000
END:STANDARD
END:VTIMEZONE
BEGIN:VEVENT
DTSTART;TZID=Europe/Paris:20250527T110000
DTEND;TZID=Europe/Paris:20250621T170000
DTSTAMP:20260424T103156
CREATED:20250520T173316Z
LAST-MODIFIED:20250729T164020Z
UID:4699-1748343600-1750525200@www.lmstudio.org
SUMMARY:Bienvenue à l’artiste Azul
DESCRIPTION:EXPOSITION par Azul Ceballos \n“La mer est une machine douce” \n“the Sea is a  soft machine” \n  \nUne longue route pour cette artiste née en Argentine et arrivant du Mexique en passant par Brooklyn NY ou elle vit et travaille ! \nAttendons nous à des surprises !  \n  \nGrowing a creative ecology of sustainability & imagination— at my own rhythm\, in step with nature’s wild wisdom www.lasvisitas.org \nsuivez son instagram \nFiche Azul/site LMStudio.org \n  \n\n\n\n\nAzul Ceballos (b. 1979\, Cordoba\, Argentina) is an interdisciplinary artist based in New York. Her work combines video and sound installation\, generative and interactive technology\, photography-based\, public and participatory art\, and works on paper including drawing\, painting\, and printmaking. \nIn addition to her individual practice\, she works on collaboration projects and initiatives bringing creatives together\, including Immigration Co/Lab as part of the Tribeca Film Institute Interactive Programs\, ObjetoAjeno as part of Cultural Center Spain.Cordoba\, and Recolectivo as part of the Goethe Institut Cordoba\, all engaged in public art\, performance\, and new media. \n\n\n\n\n\n\n\n\nShe studied Fine Arts at the National University of Córdoba\, Argentina\, and various studies in technology\, art\, and design in Spain and the United States (Parsons\, School of Poetic Computation\, Eyebeam). \nHer work has been shown at the National Fine Arts Museum of Buenos Aires\, Centro Cultural Recoleta\, and Centro Cultural San Martin\, Centro Cultural Borges\, among other institutions and alternative spaces in New York\, Portugal\, and Argentina. \nAzul Ceballos received the Sony Corporation Europe Young Artists Award 2000\, juried by the Documenta XI curator Okwui Enwezor among other remarkable international contemporary art curators.
URL:https://www.lmstudio.org/expositions/bienvenue-a-lartiste-azul/
CATEGORIES:Expositions Historiques
ATTACH;FMTTYPE=image/jpeg:https://www.lmstudio.org/wp-content/uploads/2025/05/IMG_5956.jpeg
END:VEVENT
END:VCALENDAR