BEGIN:VCALENDAR
VERSION:2.0
PRODID:-//LM Studio - ECPv6.15.20//NONSGML v1.0//EN
CALSCALE:GREGORIAN
METHOD:PUBLISH
X-ORIGINAL-URL:https://www.lmstudio.org
X-WR-CALDESC:Évènements pour LM Studio
REFRESH-INTERVAL;VALUE=DURATION:PT1H
X-Robots-Tag:noindex
X-PUBLISHED-TTL:PT1H
BEGIN:VTIMEZONE
TZID:Europe/Paris
BEGIN:DAYLIGHT
TZOFFSETFROM:+0100
TZOFFSETTO:+0200
TZNAME:CEST
DTSTART:20230326T010000
END:DAYLIGHT
BEGIN:STANDARD
TZOFFSETFROM:+0200
TZOFFSETTO:+0100
TZNAME:CET
DTSTART:20231029T010000
END:STANDARD
BEGIN:DAYLIGHT
TZOFFSETFROM:+0100
TZOFFSETTO:+0200
TZNAME:CEST
DTSTART:20240331T010000
END:DAYLIGHT
BEGIN:STANDARD
TZOFFSETFROM:+0200
TZOFFSETTO:+0100
TZNAME:CET
DTSTART:20241027T010000
END:STANDARD
BEGIN:DAYLIGHT
TZOFFSETFROM:+0100
TZOFFSETTO:+0200
TZNAME:CEST
DTSTART:20250330T010000
END:DAYLIGHT
BEGIN:STANDARD
TZOFFSETFROM:+0200
TZOFFSETTO:+0100
TZNAME:CET
DTSTART:20251026T010000
END:STANDARD
END:VTIMEZONE
BEGIN:VEVENT
DTSTART;TZID=Europe/Paris:20240331T080000
DTEND;TZID=Europe/Paris:20240427T190000
DTSTAMP:20260425T121814
CREATED:20230913T073953Z
LAST-MODIFIED:20240502T054710Z
UID:4404-1711872000-1714244400@www.lmstudio.org
SUMMARY:Bienvenue Nathalie Leverger
DESCRIPTION:C’est la rentrée… \nNATHALIE LEVERGER vient en résidence…en 2024 \nQUAND: Arrivee dimanche 31 Mars pour son installation\nJusqu’au au samedi 27 Avril 2024 \nvous pouvez deja suivre son compte instagram et prendre connaissance de son site internet. \nDémarche artistique\nNathalie Leverger a un rapport contemplatif et jubilatoire au paysage. Pour elle « tout est paysage » : la nature bien entendu\, mais aussi la ville et l’architecture\,  ou encore l’homme\, ses postures\, son travail\, les objets qu’il utilise. Elle s’y confronte avec une ligne directrice : liberté et curiosité\, au quotidien et lors de voyages personnels ou de résidences artistiques. Les détails l’intéressent beaucoup\, leurs matières\, leurs couleurs \, les accumulations d’objets ou d’éléments naturels… \nPar la photographie et le texte \, elle raconte tout d’abord ce rapport au paysage sur les réseaux sociaux en sortes de carnets de route ou de notes. Ces récits participent pour elle de sa démarche artistique.  \nElle cherche ensuite à recréer les sensations éprouvées durant ces moments\, en multipliant les techniques et les médiums avec principalement la peinture à l’huile\, les volumes textiles ou papier\, la photographie et la vidéo\, les livres d’artistes\, les installations textiles\, papier et plus récemment le verre soufflé. Dans son processus\, elle privilégie l’intuition et l’expérimentation\, la sensualité de la matière\, se trompant\, jouant des accidents et des hasards. Sa restitution graphique est le plus souvent ramenée à un ensemble de zones colorées juxtaposées ( lignes\, points\, formes colorées\, motifs) sur un fond épuré\,  dans une recherche clairement esthétique et apaisante\, à la frontière du figuratif et de l’abstrait.  \nDe même\, ses travaux en volume (papier\, coton crocheté\, verre soufflé) sont autant d’accumulations qu’elle organise en installations de grandes dimensions.  Elle aime scénographier tous ces travaux\, du tout petit format à l’oeuvre monumentale\, en ajoutant si possible le son\, dans le but d’apporter au visiteur une expérience émotionnelle.
URL:https://www.lmstudio.org/expositions/bienvenue-nathalie-leverger/
CATEGORIES:Expositions Historiques
ATTACH;FMTTYPE=image/jpeg:https://www.lmstudio.org/wp-content/uploads/2024/03/Jardins-Secrets-LM-Studio-Hyeres.jpg
END:VEVENT
END:VCALENDAR