BEGIN:VCALENDAR
VERSION:2.0
PRODID:-//LM Studio - ECPv6.15.20//NONSGML v1.0//EN
CALSCALE:GREGORIAN
METHOD:PUBLISH
X-ORIGINAL-URL:https://www.lmstudio.org
X-WR-CALDESC:Évènements pour LM Studio
REFRESH-INTERVAL;VALUE=DURATION:PT1H
X-Robots-Tag:noindex
X-PUBLISHED-TTL:PT1H
BEGIN:VTIMEZONE
TZID:Europe/Paris
BEGIN:DAYLIGHT
TZOFFSETFROM:+0100
TZOFFSETTO:+0200
TZNAME:CEST
DTSTART:20230326T010000
END:DAYLIGHT
BEGIN:STANDARD
TZOFFSETFROM:+0200
TZOFFSETTO:+0100
TZNAME:CET
DTSTART:20231029T010000
END:STANDARD
BEGIN:DAYLIGHT
TZOFFSETFROM:+0100
TZOFFSETTO:+0200
TZNAME:CEST
DTSTART:20240331T010000
END:DAYLIGHT
BEGIN:STANDARD
TZOFFSETFROM:+0200
TZOFFSETTO:+0100
TZNAME:CET
DTSTART:20241027T010000
END:STANDARD
BEGIN:DAYLIGHT
TZOFFSETFROM:+0100
TZOFFSETTO:+0200
TZNAME:CEST
DTSTART:20250330T010000
END:DAYLIGHT
BEGIN:STANDARD
TZOFFSETFROM:+0200
TZOFFSETTO:+0100
TZNAME:CET
DTSTART:20251026T010000
END:STANDARD
END:VTIMEZONE
BEGIN:VEVENT
DTSTART;TZID=Europe/Paris:20240101T080000
DTEND;TZID=Europe/Paris:20240331T170000
DTSTAMP:20260425T155228
CREATED:20230913T072834Z
LAST-MODIFIED:20240116T021259Z
UID:4399-1704096000-1711904400@www.lmstudio.org
SUMMARY:Résidence d'hiver A.I.R. 2024
DESCRIPTION:De Janvier\, Février jusqu’à fin Mars 2024\, retrouvez Fabienne Alliou Lucas qui a ete sélectionnée suite à l’appel à Projet pour la résidence d’hiver A.I.R. 2024. \nInformations disponibles bientôt \nVous pouvez déjà suivre Fabienne sur son instagram et prendre connaissance de son travail grâce à son site internet. \n  \nOuverture de l’Exposition “Costa Italia/Littoral Italien” ce matin.. Je vous attend à la la Galerie @lmstudiohyerespour découvrir mon exposition\, ensemble de photographies à propos du littoral italien.\nDu Samedi au\ndimanche\nDu 6 au 21 janvier 2024\n10h-12h et 14h-18h\nGalerie LM Studio\n5 bis rue Portalet\nHyères 83400
URL:https://www.lmstudio.org/expositions/residence-dhiver-a-i-r-2024/
CATEGORIES:Exposition Actuelle
END:VEVENT
END:VCALENDAR