BEGIN:VCALENDAR
VERSION:2.0
PRODID:-//LM Studio - ECPv6.15.20//NONSGML v1.0//EN
CALSCALE:GREGORIAN
METHOD:PUBLISH
X-ORIGINAL-URL:https://www.lmstudio.org
X-WR-CALDESC:Évènements pour LM Studio
REFRESH-INTERVAL;VALUE=DURATION:PT1H
X-Robots-Tag:noindex
X-PUBLISHED-TTL:PT1H
BEGIN:VTIMEZONE
TZID:Europe/Paris
BEGIN:DAYLIGHT
TZOFFSETFROM:+0100
TZOFFSETTO:+0200
TZNAME:CEST
DTSTART:20220327T010000
END:DAYLIGHT
BEGIN:STANDARD
TZOFFSETFROM:+0200
TZOFFSETTO:+0100
TZNAME:CET
DTSTART:20221030T010000
END:STANDARD
BEGIN:DAYLIGHT
TZOFFSETFROM:+0100
TZOFFSETTO:+0200
TZNAME:CEST
DTSTART:20230326T010000
END:DAYLIGHT
BEGIN:STANDARD
TZOFFSETFROM:+0200
TZOFFSETTO:+0100
TZNAME:CET
DTSTART:20231029T010000
END:STANDARD
BEGIN:DAYLIGHT
TZOFFSETFROM:+0100
TZOFFSETTO:+0200
TZNAME:CEST
DTSTART:20240331T010000
END:DAYLIGHT
BEGIN:STANDARD
TZOFFSETFROM:+0200
TZOFFSETTO:+0100
TZNAME:CET
DTSTART:20241027T010000
END:STANDARD
END:VTIMEZONE
BEGIN:VEVENT
DTSTART;TZID=Europe/Paris:20230913T080000
DTEND;TZID=Europe/Paris:20231130T170000
DTSTAMP:20260425T182948
CREATED:20230925T063200Z
LAST-MODIFIED:20230925T090930Z
UID:4411-1694592000-1701363600@www.lmstudio.org
SUMMARY:Salon Design/Art: Déjà Vu et Nouveautés
DESCRIPTION:Pour conclure UNE SAISON 2023  consacrée au DESIGN \nLM Studio vous présente en vitrine une selection d’oeuvres et d’objets réalisés par des artistes soit qui ont été en residence @LM Studio\n-en 2021 comme Jean Savard\n-en 2023 comme Julia Debord-Dany et Gregory Granados\nsoit que nous aurions aime avoir en residence historiquement comme Roger Capron (1922-2006) \nainsi qu’une selection de bijoux par 3 artistes\n-Annik et Alain Taral\n-Gustavo Lopez Armentia\n-Finn  \nPour tout renseignement\, veuillez nous adresser un email info@lmstudio.org\nNotre contact sur place pourra également organiser un rdv pour “ouvrir” la vitrine.\nPour plus de renseigments\, les informations seront bientôt publiées sur Instagram par createurs.
URL:https://www.lmstudio.org/expositions/salon-design-art-deja-vu-et-nouveautes/
CATEGORIES:Exposition Actuelle
END:VEVENT
END:VCALENDAR